BEGIN:VCALENDAR
VERSION:2.0
PRODID:-//ChamberMaster//Event Calendar 2.0//EN
METHOD:PUBLISH
X-PUBLISHED-TTL:P3D
REFRESH-INTERVAL:P3D
CALSCALE:GREGORIAN
BEGIN:VEVENT
DTSTART:20240816T110000Z
DTEND:20240816T170000Z
X-MICROSOFT-CDO-ALLDAYEVENT:FALSE
SUMMARY:Cop On A Rooftop
DESCRIPTION:Cop On A Rooftop @ Dunkin' Sauk City\n\n\n\nFriday\, August 16th 6am-12pm\n\n\n\n"Cop on a Rooftop" is an annual fundraiser held at Dunkin' Donuts locations across the United States to raise money for Special Olympics athletes. The event involves law enforcement officers volunteering their time to collect donations from customers on the rooftops of participating Dunkin' Donuts stores. In exchange for their donations\, customers receive coupons for free items\, such as donuts and coffee.
X-ALT-DESC;FMTTYPE=text/html:Cop On A Rooftop @ Dunkin&#39\; Sauk City<br />\n<br />\nFriday\, August 16th 6am-12pm<br />\n<br />\n&quot\;Cop on a Rooftop&quot\; is an annual fundraiser held at Dunkin&#39\; Donuts locations across the United States to raise money for Special Olympics athletes.&nbsp\;The event involves law enforcement officers volunteering their time to collect donations from customers on the rooftops of participating Dunkin&#39\; Donuts stores.&nbsp\;In exchange for their donations\, customers receive coupons for free items\, such as donuts and coffee.
LOCATION:Dunkin' Sauk City
UID:e.1184.32914
SEQUENCE:3
DTSTAMP:20260420T000238Z
URL:http://business.saukprairie.com/events/details/cop-on-a-rooftop-32914
END:VEVENT

END:VCALENDAR
