BEGIN:VCALENDAR
VERSION:2.0
PRODID:-//ChamberMaster//Event Calendar 2.0//EN
METHOD:PUBLISH
X-PUBLISHED-TTL:P3D
REFRESH-INTERVAL:P3D
CALSCALE:GREGORIAN
BEGIN:VEVENT
DTSTART:20250223T230000Z
DTEND:20250224T010000Z
X-MICROSOFT-CDO-ALLDAYEVENT:FALSE
SUMMARY:Cooking 101 - Indian Cuisine
DESCRIPTION:Discover the Flavors of India at Cooking 101!\n\n \n\nAre you ready to spice up your culinary skills and explore the vibrant world of Indian cuisine? Join us for Cooking 101\, where food\, culture\, and fun come together for an unforgettable evening.\n\n \n\nLed by our talented culinary manager\, Jesse\, this event will take you on a flavorful journey through the distinctive techniques\, ingredients\, and philosophy behind Indian cooking. Jesse will demonstrate how to create iconic dishes\, and you'll even have the chance to get hands-on with simple tasks like mixing\, kneading\, or plating. Don't worry   all activities are designed to keep you safe\, with no sharp tools or high heat involved. As we finish making the meal\, we will discuss cocktails and other beverages that complement the bold flavors of Indian cuisine. Jesse will show you how to make one such cocktail. After the cooking demonstration\, we'll gather to enjoy a meal together.\n\n \n\nYour ticket includes the meal\, a cocktail or mocktail\, and a recipe sheet\, so you can recreate the dishes at home.\n\nFeatured Food\n\nSada Roti (soft flatbread)\n\nMurgh Makhani (butter chicken)\n\nDhal (stewed lentils)\n\n \n\nFeatured Cocktails\n\nIndian Winter\n\nChai Martini\n\n \n\nThis event will be held in our ADA-accessible dining space\, ensuring everyone can participate comfortably. Tickets are $50 per participant\, and space is limited\, so don't miss your chance to join this exciting culinary adventure.  Click here to purchase tickets.\n\n \n\nBring a friend or loved one and make it a memorable evening of cooking\, sipping\, and savoring incredible flavors. We can't wait to see you there!
X-ALT-DESC;FMTTYPE=text/html:<div color:="" font-size:="" segoe="" ui="">Discover the Flavors of India at Cooking 101!<br />\n&nbsp\;</div>\n\n<div color:="" font-size:="" segoe="" ui="">Are you ready to spice up your culinary skills and explore the vibrant world of Indian cuisine? Join us for Cooking 101\, where food\, culture\, and fun come together for an unforgettable evening.<br />\n&nbsp\;</div>\n\n<div color:="" font-size:="" segoe="" ui="">Led by our talented culinary manager\, Jesse\, this event will take you on a flavorful journey through the distinctive techniques\, ingredients\, and philosophy behind Indian cooking. Jesse will demonstrate how to create iconic dishes\, and you&rsquo\;ll even have the chance to get hands-on with simple tasks like mixing\, kneading\, or plating. Don&rsquo\;t worry &ndash\; all activities are designed to keep you safe\, with no sharp tools or high heat involved. As we finish making the meal\, we will discuss cocktails and other beverages that complement the bold flavors of Indian cuisine. Jesse will show you how to make one such cocktail. After the cooking demonstration\, we&rsquo\;ll gather to enjoy a meal together.<br />\n&nbsp\;</div>\n\n<div color:="" font-size:="" segoe="" ui="">Your ticket includes the meal\, a cocktail or mocktail\, and a recipe sheet\, so you can recreate the dishes at home.</div>\n\n<div color:="" font-size:="" segoe="" ui="">Featured Food<br />\nSada Roti (soft flatbread)<br />\nMurgh Makhani (butter chicken)<br />\nDhal (stewed lentils)<br />\n&nbsp\;</div>\n\n<div color:="" font-size:="" segoe="" ui="">Featured Cocktails<br />\nIndian Winter<br />\nChai Martini<br />\n&nbsp\;</div>\n\n<div color:="" font-size:="" segoe="" ui="">This event will be held in our ADA-accessible dining space\, ensuring everyone can participate comfortably. Tickets are $50 per participant\, and space is limited\, so don&rsquo\;t miss your chance to join this exciting culinary adventure.&nbsp\; Click <u><strong><a href="https://www.eventbrite.com/e/cooking-101-indian-cuisine-tickets-1149705031699?aff=oddtdtcreator&amp\;fbclid=IwY2xjawIkbYxleHRuA2FlbQIxMAABHVvYF7QdYuPWUIix3DbDQosCH26Ri3MA7zh3F6-o2BmWFyec7iyO6isURw_aem_lt8MXkCgamwxmeNyrZKDTQ">here</a></strong></u> to purchase tickets.<br />\n&nbsp\;</div>\n\n<div color:="" font-size:="" segoe="" ui="">Bring a friend or loved one and make it a memorable evening of cooking\, sipping\, and savoring incredible flavors. We can&rsquo\;t wait to see you there!</div>\n
LOCATION:Water Street Social Club
UID:e.1184.34865
SEQUENCE:3
DTSTAMP:20260419T153118Z
URL:http://business.saukprairie.com/events/details/cooking-101-indian-cuisine-34865
END:VEVENT

END:VCALENDAR
