BEGIN:VCALENDAR
VERSION:2.0
PRODID:-//ChamberMaster//Event Calendar 2.0//EN
METHOD:PUBLISH
X-PUBLISHED-TTL:P3D
REFRESH-INTERVAL:P3D
CALSCALE:GREGORIAN
BEGIN:VEVENT
DTSTART:20240802T160000Z
DTEND:20240802T180000Z
X-MICROSOFT-CDO-ALLDAYEVENT:FALSE
SUMMARY:Command Center Food Truck teams up with SP Optimists
DESCRIPTION:Wyttenbach's Command Center Food Truck will be serving lunch at the Sauk Prairie Police Department parking lot as a fundraiser with the SP Optimists.  \n\n\n\nTime:  Both Thursday and Friday\, August 1 & 2 from 11 am - 1 pm
X-ALT-DESC;FMTTYPE=text/html:Wyttenbach&#39\;s Command Center Food Truck will be serving lunch at the Sauk Prairie Police Department parking lot as a fundraiser with the SP Optimists.&nbsp\;&nbsp\;<br />\n<br />\nTime:&nbsp\; Both Thursday and Friday\, August 1 &amp\; 2 from 11 am - 1 pm
LOCATION:Sauk Prairie Police Department parking lot: corn of 13th and Prairie Street in Prairie du Sac
UID:e.1184.32896
SEQUENCE:3
DTSTAMP:20260420T001209Z
URL:http://business.saukprairie.com/events/details/command-center-food-truck-teams-up-with-sp-optimists-08-02-2024-32896
END:VEVENT

END:VCALENDAR
