BEGIN:VCALENDAR
VERSION:2.0
PRODID:-//ChamberMaster//Event Calendar 2.0//EN
METHOD:PUBLISH
X-PUBLISHED-TTL:P3D
REFRESH-INTERVAL:P3D
CALSCALE:GREGORIAN
BEGIN:VEVENT
DTSTART:20240914T160000Z
DTEND:20240914T180000Z
X-MICROSOFT-CDO-ALLDAYEVENT:FALSE
SUMMARY:Command Center Food Truck Lunch at the Buttermilk Barn\, Merrimac
DESCRIPTION:Enjoy a mouth-watering burger and fries for lunch and shop for your fall flowers at the Buttermilk Barn this weekend on Saturday.  We will also offer other options\, such as jumbo beef dogs and grilled cheese.\n\n\n\nCome out and enjoy the beautiful early fall.
X-ALT-DESC;FMTTYPE=text/html:Enjoy a mouth-watering burger and fries for lunch and shop for your fall flowers at the Buttermilk Barn this weekend on Saturday.&nbsp\; We will also offer other options\, such as jumbo beef dogs and grilled cheese.<br />\n<br />\nCome out and enjoy the beautiful early fall.
LOCATION:Enjoy lunch from the Command Center Food Truck and browse the fall flower offerings and much more at the Buttermilk Barn\, E13313 Highway 78 & 113\, just outside of Merrimac.
UID:e.1184.33086
SEQUENCE:3
DTSTAMP:20260419T225916Z
URL:http://business.saukprairie.com/events/details/command-center-food-truck-lunch-at-the-buttermilk-barn-merrimac-33086
END:VEVENT

END:VCALENDAR
