BEGIN:VCALENDAR
VERSION:2.0
PRODID:-//ChamberMaster//Event Calendar 2.0//EN
METHOD:PUBLISH
X-PUBLISHED-TTL:P3D
REFRESH-INTERVAL:P3D
CALSCALE:GREGORIAN
BEGIN:VEVENT
DTSTART:20240927T160000Z
DTEND:20240927T180000Z
X-MICROSOFT-CDO-ALLDAYEVENT:FALSE
SUMMARY:Command Center Food Truck at MidState Equipment Friday 9/27
DESCRIPTION:Mark your calendars for lunch at the Command Center Food Truck on this Friday from 11 am - 1 pm\n\n\n\nWe'll be serving our famous 1/3# ground chuck burgers -- hamburgers\, cheeseburgers and bacon cheeseburgers.  Also available will be jumbo beef dogs\, grilled cheese and Brew City Fries.\n\n\n\nStop in for some Truckin' good Food!  A friendly reminder:  CASH ONLY
X-ALT-DESC;FMTTYPE=text/html:Mark your calendars for lunch at the Command Center Food Truck on this Friday from 11 am - 1 pm<br />\n<br />\nWe&#39\;ll be serving our famous 1/3# ground chuck burgers -- hamburgers\, cheeseburgers and bacon cheeseburgers.&nbsp\; Also available will be jumbo beef dogs\, grilled cheese and Brew City Fries.<br />\n<br />\nStop in for some Truckin&#39\; good Food!&nbsp\; A friendly reminder:&nbsp\; CASH ONLY
LOCATION:Mid-State Equipment at the stoplight corner of PF (Prairie Street) and highway 12.
UID:e.1184.33449
SEQUENCE:3
DTSTAMP:20260419T225754Z
URL:http://business.saukprairie.com/events/details/command-center-food-truck-at-midstate-equipment-friday-9-27-33449
END:VEVENT

END:VCALENDAR
