BEGIN:VCALENDAR
VERSION:2.0
PRODID:-//ChamberMaster//Event Calendar 2.0//EN
METHOD:PUBLISH
X-PUBLISHED-TTL:P3D
REFRESH-INTERVAL:P3D
CALSCALE:GREGORIAN
BEGIN:VEVENT
DTSTART:20250207T230000Z
DTEND:20250208T033000Z
X-MICROSOFT-CDO-ALLDAYEVENT:FALSE
SUMMARY:Chamber Bowl 2025
DESCRIPTION:Chamber Bowl   February 7th!  \n\nGet ready to roll into an evening of fun\, networking\, and friendly competition at the Chamber Bowl! Join us on Friday\, February 7th\, at Riviera Bowl for a night of strikes\, spares\, and great company.\n\n  Location: Riviera Bowl\n\n  Date: Friday\, February 7th\n\n  Time: 1st shift starts at 5\n\nGather your team\, bring your A-game\, and enjoy an evening of bowling\, laughter\, and community connections. Whether you're aiming for a perfect 300 or just in it for the fun\, this is an event you won't want to miss!\n\n   Sign up today! Space is limited\, so register soon to secure your spot.\n\nFor more details and registration email Stephanie at spacc@saukprairie.com. See you on the lanes!
X-ALT-DESC;FMTTYPE=text/html:<p>&#127923\; <strong>Chamber Bowl &ndash\; February 7th!</strong> &#127923\;</p>\n\n<p>Get ready to <strong>roll into an evening of fun\, networking\, and friendly competition</strong> at the <strong>Chamber Bowl</strong>! Join us on <strong>Friday\, February 7th</strong>\, at <strong>Riviera Bowl</strong> for a night of strikes\, spares\, and great company.</p>\n\n<p>&#128205\; <strong>Location:</strong> Riviera Bowl<br />\n&#128197\; <strong>Date:</strong> Friday\, February 7th<br />\n&#9200\; <strong>Time:</strong> 1st shift starts at 5</p>\n\n<p>Gather your team\, bring your A-game\, and enjoy an evening of <strong>bowling\, laughter\, and community connections</strong>. Whether you&#39\;re aiming for a perfect 300 or just in it for the fun\, this is an event you won&#39\;t want to miss!</p>\n\n<p>&#127903\;&#65039\; <strong>Sign up today!</strong> Space is limited\, so register soon to secure your spot.</p>\n\n<p>For more details and registration email Stephanie at <strong><a href="http://spacc@saukprairie.com">spacc@saukprairie.com</a></strong>.&nbsp\;See you on the lanes!&nbsp\;</p>\n
LOCATION:Riviera Bowl
UID:e.1184.32996
SEQUENCE:3
DTSTAMP:20260419T153031Z
URL:http://business.saukprairie.com/events/details/chamber-bowl-2025-32996
END:VEVENT

END:VCALENDAR
