BEGIN:VCALENDAR
VERSION:2.0
PRODID:-//ChamberMaster//Event Calendar 2.0//EN
METHOD:PUBLISH
X-PUBLISHED-TTL:P3D
REFRESH-INTERVAL:P3D
CALSCALE:GREGORIAN
BEGIN:VEVENT
DTSTART:20230716T210000Z
DTEND:20230717T010000Z
X-MICROSOFT-CDO-ALLDAYEVENT:FALSE
SUMMARY:Candy's Cafe is turning 21!
DESCRIPTION:Please join us for Food\, Drinks and fun on sunday\, July 16th from 4 to 8. At the Merrimac Memorial Park (By the lake). Bruce and the boys will play
X-ALT-DESC;FMTTYPE=text/html:Please join us for Food\, Drinks and fun on sunday\, July 16th from 4 to 8. At the Merrimac Memorial Park (By the lake). Bruce and the boys will play
LOCATION:Merrimac Memorial Park (By the lake)
UID:e.1184.30886
SEQUENCE:3
DTSTAMP:20260420T205030Z
URL:http://business.saukprairie.com/events/details/candy-s-cafe-is-turning-21-30886
END:VEVENT

END:VCALENDAR
