BEGIN:VCALENDAR
VERSION:2.0
PRODID:-//ChamberMaster//Event Calendar 2.0//EN
METHOD:PUBLISH
X-PUBLISHED-TTL:P3D
REFRESH-INTERVAL:P3D
CALSCALE:GREGORIAN
BEGIN:VEVENT
DTSTART:20240307T223000Z
DTEND:20240308T003000Z
X-MICROSOFT-CDO-ALLDAYEVENT:FALSE
SUMMARY:Business After Hours: Service Club Spotlight
DESCRIPTION:No agenda. No long speeches. Just food\, networking\, and the opportunity to learn more about Sauk Prairie area businesses\, with tours\, inside looks\, and connecting with others in growing commerce and employment opportunities.\n\n\n\nJoin us from 4:30   6:30 pm for your inside tour and area connection.
X-ALT-DESC;FMTTYPE=text/html:No agenda. No long speeches. Just food\, networking\, and the opportunity to learn more about Sauk Prairie area businesses\, with tours\, inside looks\, and connecting with others in growing commerce and employment opportunities.<br />\n<br />\nJoin us from 4:30 &ndash\; 6:30 pm for your inside tour and area connection.
LOCATION:Prairie Landing at the Culver Community Park
UID:e.1184.31419
SEQUENCE:3
DTSTAMP:20260420T072703Z
URL:http://business.saukprairie.com/events/details/business-after-hours-service-club-spotlight-31419
END:VEVENT

END:VCALENDAR
