BEGIN:VCALENDAR
VERSION:2.0
PRODID:-//ChamberMaster//Event Calendar 2.0//EN
METHOD:PUBLISH
X-PUBLISHED-TTL:P3D
REFRESH-INTERVAL:P3D
CALSCALE:GREGORIAN
BEGIN:VEVENT
DTSTART:20240813T180000Z
DTEND:20240813T190000Z
X-MICROSOFT-CDO-ALLDAYEVENT:FALSE
SUMMARY:Book Club
DESCRIPTION:August's Pick: The Girl You Left Behind by Jojo Moyes\n\nCopies of the book are available for check out at the library. The book club reads a variety of fiction and nonfiction. All are welcome.
X-ALT-DESC;FMTTYPE=text/html:August&rsquo\;s Pick: The Girl You Left Behind by Jojo Moyes<br />\nCopies of the book are available for check out at the library. The book club reads a variety of fiction and nonfiction. All are welcome.
LOCATION:George Culver Community Library
UID:e.1184.31393
SEQUENCE:3
DTSTAMP:20260420T000958Z
URL:http://business.saukprairie.com/events/details/book-club-08-13-2024-31393
END:VEVENT

END:VCALENDAR
