BEGIN:VCALENDAR
VERSION:2.0
PRODID:-//ChamberMaster//Event Calendar 2.0//EN
METHOD:PUBLISH
X-PUBLISHED-TTL:P3D
REFRESH-INTERVAL:P3D
CALSCALE:GREGORIAN
BEGIN:VEVENT
DTSTART:20230808T180000Z
DTEND:20230808T190000Z
X-MICROSOFT-CDO-ALLDAYEVENT:FALSE
SUMMARY:Book Club
DESCRIPTION:August's Pick: The Mystery of Mrs. Christie by Marie Benedict\n\nCopies of the book are available for check out at the library. The ebook is available for download at hoopladigital.com with your George Culver Community Library card. The book club reads a variety of fiction and nonfiction. All are welcome.
X-ALT-DESC;FMTTYPE=text/html:August&#39\;s Pick: The Mystery of Mrs. Christie by Marie Benedict<br />\nCopies of the book are available for check out at the library. The ebook is available for download at <a href="https://www.hoopladigital.com/">hoopladigital.com</a> with your George Culver Community Library card. The book club reads a variety of fiction and nonfiction. All are welcome.<br />\n&nbsp\;
LOCATION:615 Phillips Blvd\, Sauk City\, WI 53583
UID:e.1184.29349
SEQUENCE:3
DTSTAMP:20260420T165642Z
URL:http://business.saukprairie.com/events/details/book-club-08-08-2023-29349
END:VEVENT

END:VCALENDAR
