BEGIN:VCALENDAR
VERSION:2.0
PRODID:-//ChamberMaster//Event Calendar 2.0//EN
METHOD:PUBLISH
X-PUBLISHED-TTL:P3D
REFRESH-INTERVAL:P3D
CALSCALE:GREGORIAN
BEGIN:VEVENT
DTSTART:20240312T180000Z
DTEND:20240312T190000Z
X-MICROSOFT-CDO-ALLDAYEVENT:FALSE
SUMMARY:Book Club
DESCRIPTION:Tuesday\, March 12 at 1:00 pm\n\n\n\nMarch's Pick: The Sentence by Louise Erdrich\n\nCopies of the book are available for check out at the library. The audiobook can also be downloaded from hoopla with your GCCL library card. The book club reads a variety of fiction and nonfiction. All are welcome.
X-ALT-DESC;FMTTYPE=text/html:Tuesday\, March 12 at 1:00 pm<br />\n<br />\nMarch&rsquo\;s Pick: The Sentence by Louise Erdrich<br />\nCopies of the book are available for check out at the library. The audiobook can also be downloaded from <a href="https://www.hoopladigital.com/">hoopla</a> with your GCCL library card. The book club reads a variety of fiction and nonfiction. All are welcome.
LOCATION:
UID:e.1184.31388
SEQUENCE:3
DTSTAMP:20260420T072809Z
URL:http://business.saukprairie.com/events/details/book-club-03-12-2024-31388
END:VEVENT

END:VCALENDAR
