BEGIN:VCALENDAR
VERSION:2.0
PRODID:-//ChamberMaster//Event Calendar 2.0//EN
METHOD:PUBLISH
X-PUBLISHED-TTL:P3D
REFRESH-INTERVAL:P3D
CALSCALE:GREGORIAN
BEGIN:VEVENT
DTSTART:20230715T170000Z
DTEND:20230715T200000Z
X-MICROSOFT-CDO-ALLDAYEVENT:FALSE
SUMMARY:Barn Quilts with Maday Delgado
DESCRIPTION:Maday has offered this workshop since 2015 and many times at River Arts Inc. since 2017.\n\nThis workshop is a celebration of creative sewing expression and traditions through painted quilt blocks. It's a great opportunity to bring people together whether they sew or not. A perfect activity for everyone to join in on the fun.\n\nWe can spread the joy and pride of our rich quilting heritage with the hopes of fostering a community of creativity and positivism through painting across towns.\n\nThe instructor will draft quilt blocks before the workshop date. Participants will receive a list of quilt blocks to choose from upon registration.\n\nProvided with registration: Assorted exterior paint colors to use during the workshop\, brushes 3\, 2'x2' wooden board with primer applied on both sides\, and design drafted on one side.
X-ALT-DESC;FMTTYPE=text/html:<p>Maday has offered this workshop since 2015 and many times at River Arts Inc. since 2017.</p>\n\n<p>This workshop is a celebration of creative sewing expression and traditions through painted quilt blocks. It&rsquo\;s a great opportunity to bring people together whether they sew or not. A perfect activity for everyone to join in on the fun.</p>\n\n<p>We can spread the joy and pride of our rich quilting heritage with the hopes of fostering a community of creativity and positivism through painting across towns.</p>\n\n<p>The instructor will draft quilt blocks before the workshop date. Participants will receive a list of quilt blocks to choose from upon registration.</p>\n\n<p><strong>Provided with registration:</strong>&nbsp\;Assorted exterior paint colors to use during the workshop\, brushes 3\, 2&rsquo\;x2&rsquo\; wooden board with primer applied on both sides\, and design drafted on one side.</p>\n
LOCATION:River Arts on Water Gallery. 590 Water Street\, Prairie du Sac\, WI\, 53578
UID:e.1184.30744
SEQUENCE:3
DTSTAMP:20260420T180452Z
URL:http://business.saukprairie.com/events/details/barn-quilts-with-maday-delgado-30744
END:VEVENT

END:VCALENDAR
