BEGIN:VCALENDAR
VERSION:2.0
PRODID:-//ChamberMaster//Event Calendar 2.0//EN
METHOD:PUBLISH
X-PUBLISHED-TTL:P3D
REFRESH-INTERVAL:P3D
CALSCALE:GREGORIAN
BEGIN:VEVENT
DTSTART:20250405T140000Z
DTEND:20250405T200000Z
X-MICROSOFT-CDO-ALLDAYEVENT:FALSE
SUMMARY:Barn Quilt Painting with Lori Schaefer
DESCRIPTION:Students can expect to learn how to plan and paint a barn quilt sign that can be placed on their barn or shed or any outside surface. The size is 24  x 24 . I will give students some background and lore around barn quilts\, and give them some resources for more information and designs of barn quilts.\nSaturday\, April 5\, 2025 | 9a-3p | Deadline to register: March 15\, 2025\nAges 16+
X-ALT-DESC;FMTTYPE=text/html:<span style="color:rgb(0\, 0\, 0)\; font-family:arial\,helvetica\,sans-serif">Students can expect to learn how to plan and paint a barn quilt sign that can be placed on their barn or shed or any outside surface. The size is 24&Prime\; x 24&Prime\;. I will give students some background and lore around barn quilts\, and give them some resources for more information and designs of barn quilts.</span>\n<p><strong>Saturday\, April 5\, 2025 | 9a-3p</strong>&nbsp\;| Deadline to register: March 15\, 2025</p>\n<strong>Ages 16+</strong>
LOCATION:590 Water St\, Prairie du Sac\, WI 53578
UID:e.1184.34908
SEQUENCE:3
DTSTAMP:20260419T123825Z
URL:http://business.saukprairie.com/events/details/barn-quilt-painting-with-lori-schaefer-34908
END:VEVENT

END:VCALENDAR
