BEGIN:VCALENDAR
VERSION:2.0
PRODID:-//ChamberMaster//Event Calendar 2.0//EN
METHOD:PUBLISH
X-PUBLISHED-TTL:P3D
REFRESH-INTERVAL:P3D
CALSCALE:GREGORIAN
BEGIN:VEVENT
DTSTART:20230729T160000Z
DTEND:20230729T160000Z
X-MICROSOFT-CDO-ALLDAYEVENT:FALSE
SUMMARY:Bark in the Park
DESCRIPTION:Join us for the first Bark in the Park event at Culver Community Park! Check back for more information.. event updated weekly!\n\nBark in the Park pet bandanas and take home bags will be handed out while supplies last.\n\nDonutNV and Command Food Truck will be on site. FREE Pet Caricatures will be offered\, a pet friendly photo booth\, water activities for dogs\, 1-mile walk and a chance to use the dog park for free.\n\nPet vendor fair with samples and pet related resources.\n\nGift Baskets will be raffled off and proceeds going to Hearts & Paws Animal Rescue
X-ALT-DESC;FMTTYPE=text/html:<div class="xdj266r x11i5rnm xat24cr x1mh8g0r x1vvkbs" style="margin: 0px\; overflow-wrap: break-word\; font-family: &quot\;Segoe UI Historic&quot\;\, &quot\;Segoe UI&quot\;\, Helvetica\, Arial\, sans-serif\; color: rgb(5\, 5\, 5)\; font-size: 15px\;">Join us for the first Bark in the Park event at Culver Community Park! Check back for more information.. event updated weekly!</div>\n\n<div class="x11i5rnm xat24cr x1mh8g0r x1vvkbs xtlvy1s" style="margin: 0.5em 0px 0px\; overflow-wrap: break-word\; font-family: &quot\;Segoe UI Historic&quot\;\, &quot\;Segoe UI&quot\;\, Helvetica\, Arial\, sans-serif\; color: rgb(5\, 5\, 5)\; font-size: 15px\;">Bark in the Park pet bandanas and take home bags will be handed out while supplies last.</div>\n\n<div class="x11i5rnm xat24cr x1mh8g0r x1vvkbs xtlvy1s" style="margin: 0.5em 0px 0px\; overflow-wrap: break-word\; font-family: &quot\;Segoe UI Historic&quot\;\, &quot\;Segoe UI&quot\;\, Helvetica\, Arial\, sans-serif\; color: rgb(5\, 5\, 5)\; font-size: 15px\;">DonutNV and Command Food Truck will be on site. FREE Pet Caricatures will be offered\, a pet friendly photo booth\, water activities for dogs\, 1-mile walk and a chance to use the dog park for free.</div>\n\n<div class="x11i5rnm xat24cr x1mh8g0r x1vvkbs xtlvy1s" style="margin: 0.5em 0px 0px\; overflow-wrap: break-word\; font-family: &quot\;Segoe UI Historic&quot\;\, &quot\;Segoe UI&quot\;\, Helvetica\, Arial\, sans-serif\; color: rgb(5\, 5\, 5)\; font-size: 15px\;">Pet vendor fair with samples and pet related resources.</div>\n\n<div class="x11i5rnm xat24cr x1mh8g0r x1vvkbs xtlvy1s" style="margin: 0.5em 0px 0px\; overflow-wrap: break-word\; font-family: &quot\;Segoe UI Historic&quot\;\, &quot\;Segoe UI&quot\;\, Helvetica\, Arial\, sans-serif\; color: rgb(5\, 5\, 5)\; font-size: 15px\;">Gift Baskets will be raffled off and proceeds going to Hearts &amp\; Paws Animal Rescue</div>\n
LOCATION:Culver Community Park Prairie Du Sac\, WI 53578
UID:e.1184.30891
SEQUENCE:3
DTSTAMP:20260420T180427Z
URL:http://business.saukprairie.com/events/details/bark-in-the-park-30891
END:VEVENT

END:VCALENDAR
