BEGIN:VCALENDAR
VERSION:2.0
PRODID:-//ChamberMaster//Event Calendar 2.0//EN
METHOD:PUBLISH
X-PUBLISHED-TTL:P3D
REFRESH-INTERVAL:P3D
CALSCALE:GREGORIAN
BEGIN:VEVENT
DTSTART:20240425T203000Z
DTEND:20240425T223000Z
X-MICROSOFT-CDO-ALLDAYEVENT:FALSE
SUMMARY:Art Reception: Middle/High School/AP High School Student Art
DESCRIPTION:Featuring Sauk Prairie Student Artwork\n\n\n\nImportant Gallery information: -The River Arts Center Gallery is located at 105 9th St\, Prairie du Sac\, WI (adjacent to Sauk Prairie High School). Enter through doors E-3\, the Garden Entrance\, which is located down a sidewalk to the right of the River Arts Center main doors. \n\n\n\nHours: 8am-8pm Monday-Friday and weekends during special events. Closed when Sauk Prairie Schools are closed. View calendar here.\n\n\n\nAccessibility: Gallery is wheelchair accessible\, including all doorways and restrooms \n\n\n\nTours: This exhibit is self-guided. Free docent-led tours are available by appointment for educational groups\, non-profit organizations\, and groups of 10 or more. Email info@riverartsinc.org or call 608-643-5215 to schedule a tour for your group. *Must have at least 24 hours notice\, subject to gallery and staff availability.
X-ALT-DESC;FMTTYPE=text/html:Featuring Sauk Prairie Student Artwork<br />\n<br />\nImportant Gallery information: -The River Arts Center Gallery is located at 105 9th St\, Prairie du Sac\, WI (adjacent to Sauk Prairie High School). Enter through doors E-3\, the Garden Entrance\, which is located down a sidewalk to the right of the River Arts Center main doors.&nbsp\;<br />\n<br />\nHours: 8am-8pm Monday-Friday and weekends during special events. Closed when Sauk Prairie Schools are closed. <u><strong><a href="https://sites.google.com/saukprairieschools.org/rac/art-gallery?authuser=0">View calendar here.</a></strong></u><br />\n<br />\nAccessibility: Gallery is wheelchair accessible\, including all doorways and restrooms&nbsp\;<br />\n<br />\nTours: This exhibit is self-guided. Free docent-led tours are available by appointment for educational groups\, non-profit organizations\, and groups of 10 or more. Email info@riverartsinc.org or call 608-643-5215 to schedule a tour for your group. *Must have at least 24 hours notice\, subject to gallery and staff availability.
LOCATION:The River Arts Center Gallery is located at 105 9th St\, Prairie du Sac\, WI (adjacent to Sauk Prairie High School). Enter through doors E-3\, the Garden Entrance\, which is located down a sidewalk to the right of the River Arts Center main doors.
UID:e.1184.32048
SEQUENCE:3
DTSTAMP:20260420T055644Z
URL:http://business.saukprairie.com/events/details/art-reception-middle-high-school-ap-high-school-student-art-32048
END:VEVENT

END:VCALENDAR
