BEGIN:VCALENDAR
VERSION:2.0
PRODID:-//ChamberMaster//Event Calendar 2.0//EN
METHOD:PUBLISH
X-PUBLISHED-TTL:P3D
REFRESH-INTERVAL:P3D
CALSCALE:GREGORIAN
BEGIN:VEVENT
DTSTART:20240810T150000Z
DTEND:20240810T180000Z
X-MICROSOFT-CDO-ALLDAYEVENT:FALSE
SUMMARY:Antiques Appaisal with Mark Moran
DESCRIPTION:Join us at the library for an antiques and collectibles appraisal event featuring author and antiques expert Mark Moran! Bring an item to have appraised (registration required) or come have fun simply watching the process! Moran bought and sold antiques for more than 30 years. His vast experience and knowledge makes the appraisal process entertaining for everyone\, even if you don't have an antique for appraisal! To register for an appraisal spot\, please call the library at 608-643-8346. Visit our website for full details on what can and cannot be appraised.
X-ALT-DESC;FMTTYPE=text/html:Join us at the library for an antiques and collectibles appraisal event featuring author and antiques expert Mark Moran! Bring an item to have appraised (registration required) or come have fun simply watching the process! Moran bought and sold antiques for more than 30 years. His vast experience and knowledge makes the appraisal process entertaining for everyone\, even if you don&rsquo\;t have an antique for appraisal! To register for an appraisal spot\, please call the library at 608-643-8346. Visit our website for full details on what can and cannot be appraised.
LOCATION:George Culver Community Library
UID:e.1184.32871
SEQUENCE:3
DTSTAMP:20260420T000851Z
URL:http://business.saukprairie.com/events/details/antiques-appaisal-with-mark-moran-32871
END:VEVENT

END:VCALENDAR
