BEGIN:VCALENDAR
VERSION:2.0
PRODID:-//ChamberMaster//Event Calendar 2.0//EN
METHOD:PUBLISH
X-PUBLISHED-TTL:P3D
REFRESH-INTERVAL:P3D
CALSCALE:GREGORIAN
BEGIN:VEVENT
DTSTART:20240825T180000Z
DTEND:20240825T230000Z
X-MICROSOFT-CDO-ALLDAYEVENT:FALSE
SUMMARY:Annual Raycestrong Benefit
DESCRIPTION:Live music by the Water Street Jacks!!!!\n\n\n\nRaffle and Cash Raffle!!\n\n\n\nWe have had some amazing raffle donations and are again looking for donations for Raffle items. If you or someone you know is willing to donate\, please contact Jessica.\n\n\n\nWe want to make this the biggest year yet!! More information to follow soon!!
X-ALT-DESC;FMTTYPE=text/html:<div color:="" font-size:="" segoe="" ui="">Live music by the Water Street Jacks!!!!<br />\n<br />\nRaffle and Cash Raffle!!<br />\n<br />\nWe have had some amazing raffle donations and are again looking for donations for Raffle items. If you or someone you know is willing to donate\, please contact Jessica.<br />\n<br />\nWe want to make this the biggest year yet!! More information to follow soon!!&nbsp\;</div>\n
LOCATION:Vintage Brewing Co.
UID:e.1184.32902
SEQUENCE:3
DTSTAMP:20260420T000803Z
URL:http://business.saukprairie.com/events/details/annual-raycestrong-benefit-32902
END:VEVENT

END:VCALENDAR
