BEGIN:VCALENDAR
VERSION:2.0
PRODID:-//ChamberMaster//Event Calendar 2.0//EN
METHOD:PUBLISH
X-PUBLISHED-TTL:P3D
REFRESH-INTERVAL:P3D
CALSCALE:GREGORIAN
BEGIN:VEVENT
DTSTART:20241026T200000Z
DTEND:20241027T010000Z
X-MICROSOFT-CDO-ALLDAYEVENT:FALSE
SUMMARY:Annual Pumpkin Carving Contest\, Crafts\, and Halloween Hike
DESCRIPTION:Join the Friends in their annual pumpkin carving contest and Halloween Hike! Pumpkins and carving supplies will be provided. Prizes in various age categories for the best pumpkin\, as judged by the Halloween hikers! Pumpkin carving from 3:00 to 5:30 PM\, Halloween Hike by torchlight from 6:00 to 8:00 PM. Crafts for kids (and kids at heart) in the Rock Elm Shelter from 5:30 to 7 PM. The Concessions in the historic Chateau will be open during this time with food and beverages available to you! Event meeting place is the Rock Elm Shelter\, North Shore picnic area.
X-ALT-DESC;FMTTYPE=text/html:Join the Friends in their annual pumpkin carving contest and Halloween Hike! Pumpkins and carving supplies will be provided. Prizes in various age categories for the best pumpkin\, as judged by the Halloween hikers! Pumpkin carving from 3:00 to 5:30 PM\, Halloween Hike by torchlight from 6:00 to 8:00 PM. Crafts for kids (and kids at heart) in the Rock Elm Shelter from 5:30 to 7 PM. The Concessions in the historic Chateau will be open during this time with food and beverages available to you! Event meeting place is the Rock Elm Shelter\, North Shore picnic area.
LOCATION:Devil's Lake State Park North Shore Rock Elm Shelter
UID:e.1184.33482
SEQUENCE:3
DTSTAMP:20260419T213401Z
URL:http://business.saukprairie.com/events/details/annual-pumpkin-carving-contest-crafts-and-halloween-hike-33482
END:VEVENT

END:VCALENDAR
