BEGIN:VCALENDAR
VERSION:2.0
PRODID:-//ChamberMaster//Event Calendar 2.0//EN
METHOD:PUBLISH
X-PUBLISHED-TTL:P3D
REFRESH-INTERVAL:P3D
CALSCALE:GREGORIAN
BEGIN:VEVENT
DTSTART;VALUE=DATE:20230820
DTEND;VALUE=DATE:20230821
TRANSP:TRANSPARENT
X-MICROSOFT-CDO-ALLDAYEVENT:TRUE
SUMMARY:Annual Bruno Merchandise Shoot & Raffle
DESCRIPTION:Annual Bruno Merchandise Trap Shoot & Raffle. Open to the public.\n\n\n\nMerchandise shoot starts at 9am & will run all day (about 5pm).\n\nBBQ Chicken dinners\, serving starts at 11:30am sharp - until out. Dine-in or Carry-out. Includes: Chicken half\, loaded baked beans\, potato salad\, coleslaw\, dinner roll\, pickle.\n\nRaffle at 1pm - tickets available at the club (until sold out).\n\n\n\nCash bar available.
X-ALT-DESC;FMTTYPE=text/html:Annual Bruno Merchandise Trap Shoot &amp\; Raffle. Open to the public.<br />\n<br />\nMerchandise shoot starts at 9am &amp\; will run all day (about 5pm).<br />\nBBQ Chicken dinners\, serving starts at 11:30am sharp - until out. Dine-in or Carry-out. Includes: Chicken half\, loaded baked beans\, potato salad\, coleslaw\, dinner roll\, pickle.<br />\nRaffle at 1pm - tickets available at the club (until sold out).<br />\n<br />\nCash bar available.&nbsp\;<br />\n<br />\n&nbsp\;
LOCATION:Roxbury Valley Trap Club. 9140 Cty Hwy Y Sauk City\, WI. 53583
UID:e.1184.30931
SEQUENCE:3
DTSTAMP:20260420T164928Z
URL:http://business.saukprairie.com/events/details/annual-bruno-merchandise-shoot-raffle-30931
END:VEVENT

END:VCALENDAR
