BEGIN:VCALENDAR
VERSION:2.0
PRODID:-//ChamberMaster//Event Calendar 2.0//EN
METHOD:PUBLISH
X-PUBLISHED-TTL:P3D
REFRESH-INTERVAL:P3D
CALSCALE:GREGORIAN
BEGIN:VEVENT
DTSTART;VALUE=DATE:20240320
DTEND;VALUE=DATE:20240321
TRANSP:TRANSPARENT
X-MICROSOFT-CDO-ALLDAYEVENT:TRUE
SUMMARY:All About Eclipses
DESCRIPTION:All About Eclipses @ Ruth Culver Community Library in Prairie du Sac starting @ 4 PM\n\n\n\nPrepare with us here at the library for the upcoming solar eclipse! We'll have a brief interactive presentation before a fun eclipse-related project. Attendees will receive their own pair of eclipse glasses to take home. Glasses are provided by SEAL: Solar Eclipse Activities for Libraries and are available while supplies last. This is a family event.
X-ALT-DESC;FMTTYPE=text/html:All About Eclipses @ Ruth Culver Community Library in Prairie du Sac starting @ 4 PM<br />\n<br />\nPrepare with us here at the library for the upcoming solar eclipse! We&#39\;ll have a brief interactive presentation before a fun eclipse-related project. Attendees will receive their own pair of eclipse glasses to take home. Glasses are provided by SEAL: Solar Eclipse Activities for Libraries and are available while supplies last. This is a family event.
LOCATION:Ruth Culver Community Library - Prairie du Sac
UID:e.1184.31600
SEQUENCE:3
DTSTAMP:20260420T070805Z
URL:http://business.saukprairie.com/events/details/all-about-eclipses-31600
END:VEVENT

END:VCALENDAR
