BEGIN:VCALENDAR
VERSION:2.0
PRODID:-//ChamberMaster//Event Calendar 2.0//EN
METHOD:PUBLISH
X-PUBLISHED-TTL:P3D
REFRESH-INTERVAL:P3D
CALSCALE:GREGORIAN
BEGIN:VEVENT
DTSTART:20240615T000000Z
DTEND:20240615T020000Z
X-MICROSOFT-CDO-ALLDAYEVENT:FALSE
SUMMARY:Adam Greuel & The Space Burritos at The Vines
DESCRIPTION:June 14th at 7pm we will welcome Adam Greuel & The Space Burritos to The Vines!\n\n\n\n$15 per adult. $10 for camping.
X-ALT-DESC;FMTTYPE=text/html:June 14th at 7pm we will welcome Adam Greuel &amp\; The Space Burritos to The Vines!<br />\n<br />\n$15 per adult. $10 for camping.
LOCATION:The Vines
UID:e.1184.32636
SEQUENCE:3
DTSTAMP:20260420T025131Z
URL:http://business.saukprairie.com/events/details/adam-greuel-the-space-burritos-at-the-vines-32636
END:VEVENT

END:VCALENDAR
