BEGIN:VCALENDAR
VERSION:2.0
PRODID:-//ChamberMaster//Event Calendar 2.0//EN
METHOD:PUBLISH
X-PUBLISHED-TTL:P3D
REFRESH-INTERVAL:P3D
CALSCALE:GREGORIAN
BEGIN:VEVENT
DTSTART:20240427T130000Z
DTEND:20240427T210000Z
X-MICROSOFT-CDO-ALLDAYEVENT:FALSE
SUMMARY:$40 Prom Updos!
DESCRIPTION:Carley and Taylor want to help make your prom day special! They are offering $40 updos from 8 am to 4 pm on Saturday April 27th\, 2024. There are limited spots available so get yours while they last! \n\n\n\nContact us at (608) 844-1950 or Jore hair on Instagram!
X-ALT-DESC;FMTTYPE=text/html:Carley and Taylor want to help make your prom day special! They are offering $40 updos from 8 am to 4 pm on Saturday April 27th\, 2024. There are limited spots available so get yours while they last!&nbsp\;<br />\n<br />\nContact us at (608) 844-1950 or Jore hair on Instagram!&nbsp\;<br />\n&nbsp\;
LOCATION:Jore Hair
UID:e.1184.32305
SEQUENCE:3
DTSTAMP:20260420T055532Z
URL:http://business.saukprairie.com/events/details/40-prom-updos-32305
END:VEVENT

END:VCALENDAR
