BEGIN:VCALENDAR
VERSION:2.0
PRODID:-//ChamberMaster//Event Calendar 2.0//EN
METHOD:PUBLISH
X-PUBLISHED-TTL:P3D
REFRESH-INTERVAL:P3D
CALSCALE:GREGORIAN
BEGIN:VEVENT
DTSTART:20230809T230000Z
DTEND:20230810T020000Z
X-MICROSOFT-CDO-ALLDAYEVENT:FALSE
SUMMARY:2AM LIVE at The Shop Fair Valley Bar & Grill Bike Night in Sauk City
DESCRIPTION:2AM is very excited to be playing at The Shop's Bike Night in Sauk City. Music starts at 6 PM. Should be a great night filled with good music\, cool drinks\, cool bikes\, and hopefully YOU !! Mark your calendars and join us in Sauk City
X-ALT-DESC;FMTTYPE=text/html:<span style="color: rgb(5\, 5\, 5)\; font-family: &quot\;Segoe UI Historic&quot\;\, &quot\;Segoe UI&quot\;\, Helvetica\, Arial\, sans-serif\; font-size: 15px\;">2AM is very excited to be playing at The Shop&#39\;s Bike Night in Sauk City. Music starts at 6 PM. Should be a great night filled with good music\, cool drinks\, cool bikes\, and hopefully YOU !! Mark your calendars and join us in Sauk City</span>
LOCATION:The Shop Fair Valley Bar & Grill E9708 WI-60 Trunk\, Sauk City\, WI 53583
UID:e.1184.30894
SEQUENCE:3
DTSTAMP:20260420T170718Z
URL:http://business.saukprairie.com/events/details/2am-live-at-the-shop-fair-valley-bar-grill-bike-night-in-sauk-city-30894
END:VEVENT

END:VCALENDAR
