BEGIN:VCALENDAR
VERSION:2.0
PRODID:-//ChamberMaster//Event Calendar 2.0//EN
METHOD:PUBLISH
X-PUBLISHED-TTL:P3D
REFRESH-INTERVAL:P3D
CALSCALE:GREGORIAN
BEGIN:VEVENT
DTSTART:20241102T140000Z
DTEND:20241102T190000Z
X-MICROSOFT-CDO-ALLDAYEVENT:FALSE
SUMMARY:2024 Sauk Prairie Holiday Event
DESCRIPTION:We had so much fun last year.. were excited to be hosting this event again in the Sauk Prairie area!\n\n \n\nThis is a great one stop shop\, while supporting small businesses!\n\nWe will have something for all your Holiday shopping or personal shopping.\n\n\n\nPlease stop by and bring a friend or 3!\n\n \n\nSee you there!
X-ALT-DESC;FMTTYPE=text/html:<div color:="" font-size:="" segoe="" ui="">We had so much fun last year.. were excited to be hosting this event again in the Sauk Prairie area!<br />\n&nbsp\;</div>\n\n<div color:="" font-size:="" segoe="" ui="">This is a great one stop shop\, while supporting small businesses!<br />\nWe will have something for all your Holiday shopping or personal shopping.<br />\n<br />\nPlease stop by and bring a friend or 3!<br />\n&nbsp\;</div>\n\n<div color:="" font-size:="" segoe="" ui="">See you there!</div>\n
LOCATION:Sauk Prairie Community Center
UID:e.1184.34379
SEQUENCE:3
DTSTAMP:20260419T200542Z
URL:http://business.saukprairie.com/events/details/2024-sauk-prairie-holiday-event-34379
END:VEVENT

END:VCALENDAR
