BEGIN:VCALENDAR
VERSION:2.0
PRODID:-//ChamberMaster//Event Calendar 2.0//EN
METHOD:PUBLISH
X-PUBLISHED-TTL:P3D
REFRESH-INTERVAL:P3D
CALSCALE:GREGORIAN
BEGIN:VEVENT
DTSTART:20240427T180000Z
DTEND:20240427T210000Z
X-MICROSOFT-CDO-ALLDAYEVENT:FALSE
SUMMARY:2024 Patrick Jung Presentation on the Battle of Wisconsin Heights
DESCRIPTION:Patrick Jung Presentation and Tour of the 1832 Battle of Wisconsin Heights\n\nJoin us at the Tripp Heritage Museum for an exciting event! Get ready to dive into history as Patrick Jung takes us on a journey back to the 1832 Battle of Wisconsin Heights. Immerse yourself in the stories and learn about the significant events that unfolded during this battle.\n\nDuring this in-person event\, Patrick Jung will share his extensive knowledge and provide fascinating insights into the battle. You'll have the opportunity to explore the Wisconsin Heights Battleground\, adding a tangible element to the experience.\n\nDon't miss out on this unique opportunity to learn about the 1832 Battle of Wisconsin Heights from an expert. Mark your calendars and join us at the Tripp Heritage Museum for an unforgettable presentation and tour!\n\n\nPresentation @ 1pm followed by bus trip to the Battleground.\n\n\n\nOrder tickets here
X-ALT-DESC;FMTTYPE=text/html:<p>Patrick Jung Presentation and Tour of the 1832 Battle of Wisconsin Heights</p>\n\n<p>Join us at the&nbsp\;Tripp Heritage Museum&nbsp\;for an exciting event! Get ready to dive into history as Patrick Jung takes us on a journey back to the&nbsp\;1832 Battle of Wisconsin Heights. Immerse yourself in the stories and learn about the significant events that unfolded during this battle.</p>\n\n<p>During this&nbsp\;in-person event\, Patrick Jung will share his extensive knowledge and provide fascinating insights into the battle. You&#39\;ll have the opportunity to explore the Wisconsin Heights Battleground\, adding a tangible element to the experience.</p>\n\n<p>Don&#39\;t miss out on this unique opportunity to learn about the&nbsp\;1832 Battle of Wisconsin Heights&nbsp\;from an expert. Mark your calendars and join us at the&nbsp\;Tripp Heritage Museum&nbsp\;for an unforgettable presentation and tour!</p>\n<br />\nPresentation @ 1pm followed by bus trip to the Battleground.<br />\n<br />\nOrder tickets <u><strong><a href="https://www.eventbrite.com/e/2024-patrick-jung-presentation-and-tour-of-the-battle-of-wisconsin-heights-tickets-844157256077?fbclid=IwAR1qGJelQaeFXAmSTBTHXLQUzTxtRn-uPx5NzcmG0TjZWQ8ru2XqXmxKnJI">here</a></strong></u>
LOCATION:Tripp Heritage Museum
UID:e.1184.32301
SEQUENCE:3
DTSTAMP:20260420T060108Z
URL:http://business.saukprairie.com/events/details/2024-patrick-jung-presentation-on-the-battle-of-wisconsin-heights-32301
END:VEVENT

END:VCALENDAR
