BEGIN:VCALENDAR
VERSION:2.0
PRODID:-//ChamberMaster//Event Calendar 2.0//EN
METHOD:PUBLISH
X-PUBLISHED-TTL:P3D
REFRESH-INTERVAL:P3D
CALSCALE:GREGORIAN
BEGIN:VEVENT
DTSTART;VALUE=DATE:20241009
DTEND;VALUE=DATE:20241010
TRANSP:TRANSPARENT
X-MICROSOFT-CDO-ALLDAYEVENT:TRUE
SUMMARY:100th Anniversary Silent Auction Opens
DESCRIPTION:In celebration of our 100 year anniversary\, the Friends of the George Culver Library is hosting a Silent Auction fundraiser! Stop by the library to take a look at the auction items and start making your bids. You'll find exciting items from local artists and businesses\, such as John Joseph Coffee\, Vintage Brewing Co.\, Paul's Chocolates\, Flaxen Fleece and more! Final bids will close at 12:00pm at our reception event on October 19 and we will announce the winners live.
X-ALT-DESC;FMTTYPE=text/html:In celebration of our 100 year anniversary\, the Friends of the George Culver Library is hosting a Silent Auction fundraiser! Stop by the library to take a look at the auction items and start making your bids. You&rsquo\;ll find exciting items from local artists and businesses\, such as John Joseph Coffee\, Vintage Brewing Co.\, Paul&rsquo\;s Chocolates\, Flaxen Fleece and more! Final bids will close at 12:00pm at our reception event on October 19 and we will announce the winners live.
LOCATION:615 Phillips Blvd. Sauk City\, WI 53583
UID:e.1184.33475
SEQUENCE:3
DTSTAMP:20260419T212932Z
URL:http://business.saukprairie.com/events/details/100th-anniversary-silent-auction-opens-33475
END:VEVENT

END:VCALENDAR
