BEGIN:VCALENDAR
VERSION:2.0
PRODID:-//ChamberMaster//Event Calendar 2.0//EN
METHOD:PUBLISH
X-PUBLISHED-TTL:P3D
REFRESH-INTERVAL:P3D
CALSCALE:GREGORIAN
BEGIN:VEVENT
DTSTART:20241019T160000Z
DTEND:20241019T173000Z
X-MICROSOFT-CDO-ALLDAYEVENT:FALSE
SUMMARY:100th Anniversary Celebration
DESCRIPTION:Celebrate a century of knowledge\, community\, and growth at our special anniversary reception. Enjoy music across the decades\, light refreshments and coffee\, a chance to relive the library and Sauk City's history through historical pictures\, and test your knowledge with fun trivia!\n\nStay until 12:00 p.m. to witness the sealing of a time capsule filled with memories and artifacts from the library's 100th year. We'll also then close the Silent Auction bidding and announce winners! We can't wait to celebrate the beautiful history of the library and our community with you all!
X-ALT-DESC;FMTTYPE=text/html:Celebrate a century of knowledge\, community\, and growth at our special anniversary reception. Enjoy music across the decades\, light refreshments and coffee\, a chance to relive the library and Sauk City&rsquo\;s history through historical pictures\, and test your knowledge with fun trivia!<br />\nStay until 12:00 p.m. to witness the sealing of a time capsule filled with memories and artifacts from the library&#39\;s 100th year. We&rsquo\;ll also then close the Silent Auction bidding and announce winners! We can&#39\;t wait to celebrate the beautiful history of the library and our community with you all!
LOCATION:615 Phillips Blvd. Sauk City\, WI 53583
UID:e.1184.33474
SEQUENCE:3
DTSTAMP:20260419T212932Z
URL:http://business.saukprairie.com/events/details/100th-anniversary-celebration-33474
END:VEVENT

END:VCALENDAR
